BEGIN:VCALENDAR
VERSION:2.0
PRODID:-//wp-events-plugin.com//7.2.3.1//EN
TZID:America/Chicago
X-WR-TIMEZONE:America/Chicago
BEGIN:VEVENT
UID:657@houstonaccueil.org
DTSTART;TZID=America/Chicago:20260427T084500
DTEND;TZID=America/Chicago:20260427T104500
DTSTAMP:20260305T153227Z
URL:https://www.houstonaccueil.org/activites/9035-2026-04-27/
SUMMARY:Marche rapide
DESCRIPTION:Un rendez-vous sympathique pour une marche rapide et sportive l
 e long du bayou !\n\nLaurence\, Aude et Aurore vous proposent de découvri
 r et redécouvrir le bayou tous les lundis\, pour marcher dans la bonne hu
 meur et d’un bon pas de 8h45 à 10h45 sur une distance moyenne de 10 kms
 .\nFaire 10 000 pas/jour est une gageure à Houston\, commençons les sema
 ines avec entrain !\n\nPrêt .e à relever le défi ?\nPour plus d'informa
 tion et faire partie du groupe\, contacter Aurore - [ihc-hide-content ihc_
 mb_type="show" ihc_mb_who="reg" ihc_mb_template="2" ] par WhatsApp au +1 (
 346) 843-9741 - [/ihc-hide-content] qui se fera un plaisir de vous répond
 re - Coordonnées disponibles pour les adhérents.\nA bientôt\n
ATTACH;FMTTYPE=image/jpeg:https://www.houstonaccueil.org/wp-content/upload
 s/2025/12/marche-rapide.png
CATEGORIES:Marche rapide
END:VEVENT
BEGIN:VTIMEZONE
TZID:America/Chicago
X-LIC-LOCATION:America/Chicago
BEGIN:DAYLIGHT
DTSTART:20260308T030000
TZOFFSETFROM:-0600
TZOFFSETTO:-0500
TZNAME:CDT
END:DAYLIGHT
END:VTIMEZONE
END:VCALENDAR