BEGIN:VCALENDAR
VERSION:2.0
PRODID:-//wp-events-plugin.com//7.2.3.1//EN
TZID:America/Chicago
X-WR-TIMEZONE:America/Chicago
BEGIN:VEVENT
UID:679@houstonaccueil.org
DTSTART;TZID=America/Chicago:20260424T130000
DTEND;TZID=America/Chicago:20260424T140000
DTSTAMP:20260420T135722Z
URL:https://www.houstonaccueil.org/activites/atelier-line-dance-2/
SUMMARY:Atelier Line Dance !
DESCRIPTION:📢 Atelier Line Dance – Ouverture des inscriptions de la s
 éance du 24 avril ! 🤠🎶\nHouston Accueil avec Seem\, ouvre les inscr
 iptions pour la deuxième séance de Line Dance.\nL'objectif reste toujour
 s le même\, apprendre et s’amuser pour vous faire découvrir ou vous pe
 rfectionner à cette danse conviviale et dynamique. La séance sera animé
 e par Sharon en français\n📅 Inscrivez-vous dès aujourd’hui pour la 
 séance du 24 avril (13h - 14h) -  Inscription obligatoire\, places limit
 ées à 16 participants par séance\n\nLes inscriptions pour le 1er mai ou
 vriront prochainement. Restez connectés !\n🔹 Gratuit pour les adhéren
 ts\n🔹 Lieu : Trini Mendendenhall Community Center\, 1414 Wirt Road\n
 💡 Pourquoi participer ?\n✅ Apprendre les bases ou se perfectionner en
  Line Dance\n✅ Rencontrer d’autres francophones et expatriés\n✅ S
 ’amuser dans une ambiance conviviale et dynamique\nPour plus d’informa
 tion\, n’hésitez pas à contacter Seem qui se fera un plaisir de vous r
 épondre [ihc-hide-content ihc_mb_type="show" ihc_mb_who="reg" ihc_mb_temp
 late="2" ] - au +33 6 95 50 13 38 par WhatsApp [/ihc-hide-content] - coor
 données communiquées uniquement aux adhérents de Houston Accueil.\n🎉
  Prêts à danser ? Rejoignez-nous pour des moments de partage et de bonne
  humeur ! 🤠🎶
ATTACH;FMTTYPE=image/jpeg:https://www.houstonaccueil.org/wp-content/upload
 s/2026/03/Cours-line-dance.jpg
CATEGORIES:Évènements
LOCATION:\, Trini Mendendenhall Community Center\, 1414 Wirt Road\, Houston
 \, États-Unis
GEO:29.795765;-95.48441
X-APPLE-STRUCTURED-LOCATION;VALUE=URI;X-ADDRESS=Trini Mendendenhall Communi
 ty Center\, 1414 Wirt Road\, Houston\, États-Unis;X-APPLE-RADIUS=100;X-TI
 TLE=:geo:29.795765,-95.48441
END:VEVENT
BEGIN:VTIMEZONE
TZID:America/Chicago
X-LIC-LOCATION:America/Chicago
BEGIN:DAYLIGHT
DTSTART:20260308T030000
TZOFFSETFROM:-0600
TZOFFSETTO:-0500
TZNAME:CDT
END:DAYLIGHT
END:VTIMEZONE
END:VCALENDAR