BEGIN:VCALENDAR
VERSION:2.0
PRODID:-//wp-events-plugin.com//7.2.3.1//EN
TZID:America/Chicago
X-WR-TIMEZONE:America/Chicago
BEGIN:VEVENT
UID:633@houstonaccueil.org
DTSTART;TZID=America/Chicago:20260422T090000
DTEND;TZID=America/Chicago:20260422T130000
DTSTAMP:20260227T204252Z
URL:https://www.houstonaccueil.org/activites/golf-en-semaine-2-2026-04-22/
SUMMARY:Golf en semaine
DESCRIPTION:⛳ Envie de profiter d’une matinée au grand air\, entre fra
 ncophones et expatriés\, sur les magnifiques parcours de golf de l’oues
 t de Houston ?\n\nRejoignez-nous pour une partie détendue et amicale de 1
 8 trous\, sans pression ni compétition – l’objectif ? Passer un bon m
 oment\, échanger et créer des liens dans une ambiance chaleureuse.\n\nD
 éroulement :\n\n 	Généralement le mercredi (sous réserve des disponibi
 lités des golfs)\n 	9h : Rendez-vous sur le green pour une partie d’env
 iron 3h30 à 4h (pas de niveau minimum requis\, juste l’envie de s’amu
 ser !).\n 	Entre 12h et 13h : Direction le club-house pour un verre ou un 
 déjeuner entre joueurs\, selon vos envies.\n 	Matériel : Possibilité de
  prêt si besoin.\n\nQue vous soyez golfeur confirmé ou débutant motivé
 \, tous les niveaux sont les bienvenus - Il suffit de se sentir assez à l
 ’aise pour faire 18 trous entre 3h30 et 4h environ.\n\n📅 Pour plus d'
 information ou réserver votre place pour la prochaine sortie\, contactez 
 directement Jean-Pierre [ihc-hide-content ihc_mb_type="show" ihc_mb_who="r
 eg" ihc_mb_template="2" ] par mail\, jeanpierre@bourliot.com[/ihc-hide-con
 tent] -coordonnées uniquement visibles par les adhérents. \n\n👉  À
  bientôt sur le parcours ! ⛳😊
ATTACH;FMTTYPE=image/jpeg:https://www.houstonaccueil.org/wp-content/upload
 s/2025/12/golf.png
CATEGORIES:Golf en semaine
END:VEVENT
BEGIN:VTIMEZONE
TZID:America/Chicago
X-LIC-LOCATION:America/Chicago
BEGIN:DAYLIGHT
DTSTART:20260308T030000
TZOFFSETFROM:-0600
TZOFFSETTO:-0500
TZNAME:CDT
END:DAYLIGHT
END:VTIMEZONE
END:VCALENDAR